BEGIN:VCALENDAR
VERSION:2.0
PRODID:-//EventsCabin//EN
CALSCALE:GREGORIAN
BEGIN:VEVENT
UID:https://eventscabin.com/event-details/the-ghana-jazz-experience
DTSTAMP:20260424T132756Z
DTSTART:20260430T190000
DTEND:20260501T030000
SUMMARY:The Ghana Jazz Experience
DESCRIPTION:Celebrating International Jazz Day 2026
LOCATION:+233 Jazz Bar
END:VEVENT
END:VCALENDAR