BEGIN:VCALENDAR
VERSION:2.0
PRODID:-//EventsCabin//EN
CALSCALE:GREGORIAN
BEGIN:VEVENT
UID:https://eventscabin.com/event-details/iyes-ghana-2026
DTSTAMP:20260421T081621Z
DTSTART:20260310T090000
DTEND:20260313T235900
SUMMARY:iYES Ghana 2026
DESCRIPTION:International Youth Empowerment Summit
LOCATION:UPSA Auditorium
END:VEVENT
END:VCALENDAR