BEGIN:VCALENDAR
VERSION:2.0
PRODID:-//EventsCabin//EN
CALSCALE:GREGORIAN
BEGIN:VEVENT
UID:https://eventscabin.com/event-details/open-skies-mondays
DTSTAMP:20260420T150151Z
DTSTART:20260420T200000
DTEND:20260420T235900
SUMMARY:Open Skies Mondays
DESCRIPTION:Accra's Biggest Monday Night Party
LOCATION:Exhale Lounge, East Legon
END:VEVENT
END:VCALENDAR