BEGIN:VCALENDAR
VERSION:2.0
PRODID:-//EventsCabin//EN
CALSCALE:GREGORIAN
BEGIN:VEVENT
UID:https://eventscabin.com/event-details/doulos-conference
DTSTAMP:20260421T075622Z
DTSTART:20260324T173000
DTEND:20260326T213000
SUMMARY:Doulos Conference
DESCRIPTION:Register at doulos.centralgospel.com
LOCATION:Christ Temple East
END:VEVENT
END:VCALENDAR