BEGIN:VCALENDAR
VERSION:2.0
PRODID:-//EventsCabin//EN
CALSCALE:GREGORIAN
BEGIN:VEVENT
UID:https://eventscabin.com/event-details/dubai-meet-ghana
DTSTAMP:20260421T092309Z
DTSTART:20260421T100000
DTEND:20260423T193000
SUMMARY:Dubai Meet Ghana
DESCRIPTION:RSVP 0541288613
LOCATION:Pelican Hotel, Cantonments
END:VEVENT
END:VCALENDAR