BEGIN:VCALENDAR
VERSION:2.0
PRODID:-//EventsCabin//EN
CALSCALE:GREGORIAN
BEGIN:VEVENT
UID:https://eventscabin.com/event-details/slow-jamz
DTSTAMP:20260423T105605Z
DTSTART:20260424T200000
DTEND:20260425T020000
SUMMARY:Slow Jamz
DESCRIPTION:RSVP +233207480685
LOCATION:Exhale Lounge, East Legon
END:VEVENT
END:VCALENDAR