BEGIN:VCALENDAR
VERSION:2.0
PRODID:-//EventsCabin//EN
CALSCALE:GREGORIAN
BEGIN:VEVENT
UID:https://eventscabin.com/event-details/al-tech-confab
DTSTAMP:20260423T105255Z
DTSTART:20261229T090000
DTEND:20261230T160000
SUMMARY:Al Tech Confab
DESCRIPTION:Testing
LOCATION:Lahore
END:VEVENT
END:VCALENDAR