BEGIN:VCALENDAR
VERSION:2.0
PRODID:-//EventsCabin//EN
CALSCALE:GREGORIAN
BEGIN:VEVENT
UID:https://eventscabin.com/event-details/automotive-festival-experience
DTSTAMP:20260424T132249Z
DTSTART:20260502T090000
DTEND:20260503T190000
SUMMARY:Automotive Festival Experience
DESCRIPTION:Vintage Cars. Exotic Cars. Modified Builds.
LOCATION:Ghana Int. Mall, Spintex
END:VEVENT
END:VCALENDAR