BEGIN:VCALENDAR
VERSION:2.0
PRODID:-//EventsCabin//EN
CALSCALE:GREGORIAN
BEGIN:VEVENT
UID:https://eventscabin.com/event-details/all-black-party0
DTSTAMP:20260424T132756Z
DTSTART:20260430T190000
DTEND:20260501T030000
SUMMARY:All Black Party0
DESCRIPTION:Salsa | Kizomba | Konda
LOCATION:Africa Regent Hotel
END:VEVENT
END:VCALENDAR