BEGIN:VCALENDAR
VERSION:2.0
PRODID:-//EventsCabin//EN
CALSCALE:GREGORIAN
BEGIN:VEVENT
UID:https://eventscabin.com/event-details/she-biz-summit
DTSTAMP:20260425T105047Z
DTSTART:20261230T090000
DTEND:20261231T153000
SUMMARY:"She Biz" Summit
DESCRIPTION:Business Summit for Women
LOCATION:Eastern Premier Hotel
END:VEVENT
END:VCALENDAR